BEGIN:VCALENDAR
VERSION:2.0
PRODID:-//DIOCESI DI ROMA - ECPv4.6.14.1//NONSGML v1.0//EN
CALSCALE:GREGORIAN
METHOD:PUBLISH
X-WR-CALNAME:DIOCESI DI ROMA
X-ORIGINAL-URL:https://www.diocesidiroma.it
X-WR-CALDESC:Eventi per DIOCESI DI ROMA
BEGIN:VEVENT
DTSTART;TZID=Europe/Rome:20221213T170000
DTEND;TZID=Europe/Rome:20221213T170000
DTSTAMP:20260421T110547
CREATED:20221209T100520Z
LAST-MODIFIED:20221209T100534Z
UID:24411-1670950800-1670950800@www.diocesidiroma.it
SUMMARY:Nella Basilica di San Giovanni in Laterano celebra la Messa pro Natione Gallica
DESCRIPTION:Nella Basilica di San Giovanni in Laterano celebra la Messa pro Natione Gallica. \n
URL:https://www.diocesidiroma.it/event/nella-basilica-di-san-giovanni-in-laterano-celebra-la-messa-pro-natione-gallica-3/
CATEGORIES:NON USARE --- Agenda del Vicario
END:VEVENT
END:VCALENDAR