BEGIN:VCALENDAR
VERSION:2.0
PRODID:-//DIOCESI DI ROMA - ECPv4.6.14.1//NONSGML v1.0//EN
CALSCALE:GREGORIAN
METHOD:PUBLISH
X-WR-CALNAME:DIOCESI DI ROMA
X-ORIGINAL-URL:https://www.diocesidiroma.it
X-WR-CALDESC:Eventi per DIOCESI DI ROMA
BEGIN:VEVENT
DTSTART;TZID=Europe/Rome:20181103T110000
DTEND;TZID=Europe/Rome:20181103T110000
DTSTAMP:20260421T025415
CREATED:20181026T083755Z
LAST-MODIFIED:20181026T083812Z
UID:5346-1541242800-1541242800@www.diocesidiroma.it
SUMMARY:Nella basilica di San Giovanni in Laterano partecipa alla beatificazione di Madre Clelia Merloni presieduta dal cardinale Angelo Becciu
DESCRIPTION:Nella basilica di San Giovanni in Laterano partecipa alla beatificazione di Madre Clelia Merloni presieduta dal cardinale Angelo Becciu. \n
URL:https://www.diocesidiroma.it/event/nella-basilica-di-san-giovanni-in-laterano-partecipa-alla-beatificazione-di-madre-clelia-merloni-presieduta-dal-cardinale-angelo-becciu/
CATEGORIES:NON USARE --- Agenda del Vicario
END:VEVENT
END:VCALENDAR