BEGIN:VCALENDAR
VERSION:2.0
PRODID:-//DIOCESI DI ROMA - ECPv4.6.14.1//NONSGML v1.0//EN
CALSCALE:GREGORIAN
METHOD:PUBLISH
X-WR-CALNAME:DIOCESI DI ROMA
X-ORIGINAL-URL:https://www.diocesidiroma.it
X-WR-CALDESC:Eventi per DIOCESI DI ROMA
BEGIN:VEVENT
DTSTART;TZID=Europe/Rome:20240228T190000
DTEND;TZID=Europe/Rome:20240228T203000
DTSTAMP:20260421T060213
CREATED:20240223T120909Z
LAST-MODIFIED:20240223T120909Z
UID:29021-1709146800-1709152200@www.diocesidiroma.it
SUMMARY:Nella basilica di San Giovanni in Laterano preside il secondo incontro quaresimale su Le avventure di Pinocchio - Ovvero il dramma della libertà
DESCRIPTION:Nella basilica di San Giovanni in Laterano preside il secondo incontro quaresimale su Le avventure di Pinocchio – Ovvero il dramma della libertà. \n
URL:https://www.diocesidiroma.it/event/nella-basilica-di-san-giovanni-in-laterano-preside-il-secondo-incontro-quaresimale-su-le-avventure-di-pinocchio-ovvero-il-dramma-della-liberta/
CATEGORIES:NON USARE --- Agenda del Vicario
END:VEVENT
END:VCALENDAR