BEGIN:VCALENDAR
VERSION:2.0
PRODID:-//DIOCESI DI ROMA - ECPv4.6.14.1//NONSGML v1.0//EN
CALSCALE:GREGORIAN
METHOD:PUBLISH
X-WR-CALNAME:DIOCESI DI ROMA
X-ORIGINAL-URL:https://www.diocesidiroma.it
X-WR-CALDESC:Eventi per DIOCESI DI ROMA
BEGIN:VEVENT
DTSTART;TZID=Europe/Rome:20230223T100000
DTEND;TZID=Europe/Rome:20230223T100000
DTSTAMP:20260424T050751
CREATED:20230217T110727Z
LAST-MODIFIED:20230217T110727Z
UID:25350-1677146400-1677146400@www.diocesidiroma.it
SUMMARY:Nella basilica di San Giovanni in Laterano preside la Liturgia Penitenziale del Clero in occasione dell’inizio della Quaresima
DESCRIPTION:Nella basilica di San Giovanni in Laterano preside la Liturgia Penitenziale del Clero in occasione dell’inizio della Quaresima. \n
URL:https://www.diocesidiroma.it/event/nella-basilica-di-san-giovanni-in-laterano-preside-la-liturgia-penitenziale-del-clero-in-occasione-dellinizio-della-quaresima-2/
CATEGORIES:NON USARE --- Agenda del Vicario
END:VEVENT
END:VCALENDAR