BEGIN:VCALENDAR
VERSION:2.0
PRODID:-//DIOCESI DI ROMA - ECPv4.6.14.1//NONSGML v1.0//EN
CALSCALE:GREGORIAN
METHOD:PUBLISH
X-WR-CALNAME:DIOCESI DI ROMA
X-ORIGINAL-URL:https://www.diocesidiroma.it
X-WR-CALDESC:Eventi per DIOCESI DI ROMA
BEGIN:VEVENT
DTSTART;TZID=Europe/Rome:20210522T193000
DTEND;TZID=Europe/Rome:20210522T193000
DTSTAMP:20260423T220636
CREATED:20210514T094815Z
LAST-MODIFIED:20210514T094821Z
UID:15593-1621711800-1621711800@www.diocesidiroma.it
SUMMARY:Nella basilica di San Giovanni in Laterano preside la Veglia di Pentecoste
DESCRIPTION:Nella basilica di San Giovanni in Laterano preside la Veglia di Pentecoste. \n
URL:https://www.diocesidiroma.it/event/nella-basilica-di-san-giovanni-in-laterano-preside-la-veglia-di-pentecoste/
CATEGORIES:NON USARE --- Agenda del Vicario
END:VEVENT
END:VCALENDAR