BEGIN:VCALENDAR
VERSION:2.0
PRODID:-//DIOCESI DI ROMA - ECPv4.6.14.1//NONSGML v1.0//EN
CALSCALE:GREGORIAN
METHOD:PUBLISH
X-WR-CALNAME:DIOCESI DI ROMA
X-ORIGINAL-URL:https://www.diocesidiroma.it
X-WR-CALDESC:Eventi per DIOCESI DI ROMA
BEGIN:VEVENT
DTSTART;TZID=Europe/Rome:20240331T103000
DTEND;TZID=Europe/Rome:20240331T103000
DTSTAMP:20260425T010804
CREATED:20240322T081012Z
LAST-MODIFIED:20240322T081012Z
UID:29276-1711881000-1711881000@www.diocesidiroma.it
SUMMARY:Nella basilica di San Giovanni in Laterano presiede il Pontificale nel giorno di Pasqua
DESCRIPTION:Nella basilica di San Giovanni in Laterano presiede il Pontificale nel giorno di Pasqua. \n
URL:https://www.diocesidiroma.it/event/nella-basilica-di-san-giovanni-in-laterano-presiede-il-pontificale-nel-giorno-di-pasqua-4/
CATEGORIES:NON USARE --- Agenda del Vicario
END:VEVENT
END:VCALENDAR