BEGIN:VCALENDAR
VERSION:2.0
PRODID:-//DIOCESI DI ROMA - ECPv4.6.14.1//NONSGML v1.0//EN
CALSCALE:GREGORIAN
METHOD:PUBLISH
X-WR-CALNAME:DIOCESI DI ROMA
X-ORIGINAL-URL:https://www.diocesidiroma.it
X-WR-CALDESC:Eventi per DIOCESI DI ROMA
BEGIN:VEVENT
DTSTART;TZID=Europe/Rome:20230329T190000
DTEND;TZID=Europe/Rome:20230329T203000
DTSTAMP:20260425T002340
CREATED:20230324T123646Z
LAST-MODIFIED:20230324T123646Z
UID:25798-1680116400-1680121800@www.diocesidiroma.it
SUMMARY:Nella basilica di San Giovanni in Laterano presiede il quinto incontro quaresimale su delle letture scelte di Giacomo Leopardi
DESCRIPTION:Nella basilica di San Giovanni in Laterano presiede il quinto incontro quaresimale su delle letture scelte di Giacomo Leopardi. \n
URL:https://www.diocesidiroma.it/event/nella-basilica-di-san-giovanni-in-laterano-presiede-il-quinto-incontro-quaresimale-su-delle-letture-scelte-di-giacomo-leopardi/
CATEGORIES:NON USARE --- Agenda del Vicario
END:VEVENT
END:VCALENDAR