BEGIN:VCALENDAR
VERSION:2.0
PRODID:-//DIOCESI DI ROMA - ECPv4.6.14.1//NONSGML v1.0//EN
CALSCALE:GREGORIAN
METHOD:PUBLISH
X-WR-CALNAME:DIOCESI DI ROMA
X-ORIGINAL-URL:https://www.diocesidiroma.it
X-WR-CALDESC:Eventi per DIOCESI DI ROMA
BEGIN:VEVENT
DTSTART;TZID=Europe/Rome:20201031T173000
DTEND;TZID=Europe/Rome:20201031T173000
DTSTAMP:20260425T124119
CREATED:20201023T111134Z
LAST-MODIFIED:20201023T111140Z
UID:12224-1604165400-1604165400@www.diocesidiroma.it
SUMMARY:Nella basilica di San Giovanni in Laterano presiede il rito di consacrazione delle candidate all’Ordo Virginum
DESCRIPTION:Nella basilica di San Giovanni in Laterano presiede il rito di consacrazione delle candidate all’Ordo Virginum. \n
URL:https://www.diocesidiroma.it/event/nella-basilica-di-san-giovanni-in-laterano-presiede-il-rito-di-consacrazione-delle-candidate-allordo-virginum/
CATEGORIES:NON USARE --- Agenda del Vicario
END:VEVENT
END:VCALENDAR