BEGIN:VCALENDAR
VERSION:2.0
PRODID:-//DIOCESI DI ROMA - ECPv4.6.14.1//NONSGML v1.0//EN
CALSCALE:GREGORIAN
METHOD:PUBLISH
X-WR-CALNAME:DIOCESI DI ROMA
X-ORIGINAL-URL:https://www.diocesidiroma.it
X-WR-CALDESC:Eventi per DIOCESI DI ROMA
BEGIN:VEVENT
DTSTART;TZID=Europe/Rome:20191013T160000
DTEND;TZID=Europe/Rome:20191013T160000
DTSTAMP:20260423T201704
CREATED:20191004T092349Z
LAST-MODIFIED:20191004T092402Z
UID:8980-1570982400-1570982400@www.diocesidiroma.it
SUMMARY:Nella basilica di San Giovanni in Laterano presiede la celebrazione del Vespro e il giuramento dei nuovi canonici
DESCRIPTION:Nella basilica di San Giovanni in Laterano presiede la celebrazione del Vespro e il giuramento dei nuovi canonici. \n
URL:https://www.diocesidiroma.it/event/nella-basilica-di-san-giovanni-in-laterano-presiede-la-celebrazione-del-vespro-e-il-giuramento-dei-nuovi-canonici/
CATEGORIES:NON USARE --- Agenda del Vicario
END:VEVENT
END:VCALENDAR