BEGIN:VCALENDAR
VERSION:2.0
PRODID:-//DIOCESI DI ROMA - ECPv4.6.14.1//NONSGML v1.0//EN
CALSCALE:GREGORIAN
METHOD:PUBLISH
X-WR-CALNAME:DIOCESI DI ROMA
X-ORIGINAL-URL:https://www.diocesidiroma.it
X-WR-CALDESC:Eventi per DIOCESI DI ROMA
BEGIN:VEVENT
DTSTART;TZID=Europe/Rome:20230408T210000
DTEND;TZID=Europe/Rome:20230408T210000
DTSTAMP:20260425T023154
CREATED:20230331T094102Z
LAST-MODIFIED:20230331T094102Z
UID:25905-1680987600-1680987600@www.diocesidiroma.it
SUMMARY:Nella basilica di San Giovanni in Laterano presiede la celebrazione della Veglia Pasquale
DESCRIPTION:Nella basilica di San Giovanni in Laterano presiede la celebrazione della Veglia Pasquale. \n
URL:https://www.diocesidiroma.it/event/nella-basilica-di-san-giovanni-in-laterano-presiede-la-celebrazione-della-veglia-pasquale-3/
CATEGORIES:NON USARE --- Agenda del Vicario
END:VEVENT
END:VCALENDAR