BEGIN:VCALENDAR
VERSION:2.0
PRODID:-//DIOCESI DI ROMA - ECPv4.6.14.1//NONSGML v1.0//EN
CALSCALE:GREGORIAN
METHOD:PUBLISH
X-WR-CALNAME:DIOCESI DI ROMA
X-ORIGINAL-URL:https://www.diocesidiroma.it
X-WR-CALDESC:Eventi per DIOCESI DI ROMA
BEGIN:VEVENT
DTSTART;TZID=Europe/Rome:20240330T210000
DTEND;TZID=Europe/Rome:20240330T210000
DTSTAMP:20260424T230105
CREATED:20240322T080931Z
LAST-MODIFIED:20240322T080931Z
UID:29274-1711832400-1711832400@www.diocesidiroma.it
SUMMARY:Nella basilica di San Giovanni in Laterano presiede la celebrazione della Veglia Pasquale
DESCRIPTION:Nella basilica di San Giovanni in Laterano presiede la celebrazione della Veglia Pasquale \n
URL:https://www.diocesidiroma.it/event/nella-basilica-di-san-giovanni-in-laterano-presiede-la-celebrazione-della-veglia-pasquale-4/
CATEGORIES:NON USARE --- Agenda del Vicario
END:VEVENT
END:VCALENDAR