BEGIN:VCALENDAR
VERSION:2.0
PRODID:-//DIOCESI DI ROMA - ECPv4.6.14.1//NONSGML v1.0//EN
CALSCALE:GREGORIAN
METHOD:PUBLISH
X-WR-CALNAME:DIOCESI DI ROMA
X-ORIGINAL-URL:https://www.diocesidiroma.it
X-WR-CALDESC:Eventi per DIOCESI DI ROMA
BEGIN:VEVENT
DTSTART;TZID=Europe/Rome:20231224T190000
DTEND;TZID=Europe/Rome:20231224T190000
DTSTAMP:20260423T152914
CREATED:20231215T112613Z
LAST-MODIFIED:20231215T112624Z
UID:28181-1703444400-1703444400@www.diocesidiroma.it
SUMMARY:Nella basilica di San Giovanni in Laterano presiede la celebrazione liturgica della Natività del Signore
DESCRIPTION:Nella basilica di San Giovanni in Laterano presiede la celebrazione liturgica della Natività del Signore. \n
URL:https://www.diocesidiroma.it/event/nella-basilica-di-san-giovanni-in-laterano-presiede-la-celebrazione-liturgica-della-nativita-del-signore-2/
CATEGORIES:NON USARE --- Agenda del Vicario
END:VEVENT
END:VCALENDAR