BEGIN:VCALENDAR
VERSION:2.0
PRODID:-//DIOCESI DI ROMA - ECPv4.6.14.1//NONSGML v1.0//EN
CALSCALE:GREGORIAN
METHOD:PUBLISH
X-WR-CALNAME:DIOCESI DI ROMA
X-ORIGINAL-URL:https://www.diocesidiroma.it
X-WR-CALDESC:Eventi per DIOCESI DI ROMA
BEGIN:VEVENT
DTSTART;TZID=Europe/Rome:20231129T150000
DTEND;TZID=Europe/Rome:20231129T150000
DTSTAMP:20260424T015304
CREATED:20231127T082053Z
LAST-MODIFIED:20231127T082053Z
UID:28002-1701270000-1701270000@www.diocesidiroma.it
SUMMARY:Nella Basilica di San Giovanni in Laterano presiede la commemorazione per gli 800 anni della Regola di San Francesco
DESCRIPTION:Nella Basilica di San Giovanni in Laterano presiede la commemorazione per gli 800 anni della Regola di San Francesco \n
URL:https://www.diocesidiroma.it/event/nella-basilica-di-san-giovanni-in-laterano-presiede-la-commemorazione-per-gli-800-anni-della-regola-di-san-francesco/
CATEGORIES:NON USARE --- Agenda del Vicario
END:VEVENT
END:VCALENDAR