BEGIN:VCALENDAR
VERSION:2.0
PRODID:-//DIOCESI DI ROMA - ECPv4.6.14.1//NONSGML v1.0//EN
CALSCALE:GREGORIAN
METHOD:PUBLISH
X-WR-CALNAME:DIOCESI DI ROMA
X-ORIGINAL-URL:https://www.diocesidiroma.it
X-WR-CALDESC:Eventi per DIOCESI DI ROMA
BEGIN:VEVENT
DTSTART;TZID=Europe/Rome:20221208T103000
DTEND;TZID=Europe/Rome:20221208T103000
DTSTAMP:20260425T022319
CREATED:20221202T085118Z
LAST-MODIFIED:20221202T085141Z
UID:24351-1670495400-1670495400@www.diocesidiroma.it
SUMMARY:Nella basilica di San Giovanni in Laterano presiede la Messa Capitolare in occasione dell’Immacolata Concezione
DESCRIPTION:Nella basilica di San Giovanni in Laterano presiede la Messa Capitolare in occasione dell’Immacolata Concezione. \n
URL:https://www.diocesidiroma.it/event/nella-basilica-di-san-giovanni-in-laterano-presiede-la-messa-capitolare-in-occasione-dellimmacolata-concezione/
CATEGORIES:NON USARE --- Agenda del Vicario
END:VEVENT
END:VCALENDAR