BEGIN:VCALENDAR
VERSION:2.0
PRODID:-//DIOCESI DI ROMA - ECPv4.6.14.1//NONSGML v1.0//EN
CALSCALE:GREGORIAN
METHOD:PUBLISH
X-WR-CALNAME:DIOCESI DI ROMA
X-ORIGINAL-URL:https://www.diocesidiroma.it
X-WR-CALDESC:Eventi per DIOCESI DI ROMA
BEGIN:VEVENT
DTSTART;TZID=Europe/Rome:20191225T103000
DTEND;TZID=Europe/Rome:20191225T103000
DTSTAMP:20260424T020451
CREATED:20191220T091551Z
LAST-MODIFIED:20191220T091559Z
UID:9620-1577269800-1577269800@www.diocesidiroma.it
SUMMARY:Nella basilica di San Giovanni in Laterano presiede la Messa Capitolare nel Natale del Signore
DESCRIPTION:Nella basilica di San Giovanni in Laterano presiede la Messa Capitolare nel Natale del Signore. \n
URL:https://www.diocesidiroma.it/event/nella-basilica-di-san-giovanni-in-laterano-presiede-la-messa-capitolare-nel-natale-del-signore/
CATEGORIES:NON USARE --- Agenda del Vicario
END:VEVENT
END:VCALENDAR