BEGIN:VCALENDAR
VERSION:2.0
PRODID:-//DIOCESI DI ROMA - ECPv4.6.14.1//NONSGML v1.0//EN
CALSCALE:GREGORIAN
METHOD:PUBLISH
X-WR-CALNAME:DIOCESI DI ROMA
X-ORIGINAL-URL:https://www.diocesidiroma.it
X-WR-CALDESC:Eventi per DIOCESI DI ROMA
BEGIN:VEVENT
DTSTART;TZID=Europe/Rome:20231013T183000
DTEND;TZID=Europe/Rome:20231013T183000
DTSTAMP:20260421T173706
CREATED:20231006T103437Z
LAST-MODIFIED:20231006T103437Z
UID:27586-1697221800-1697221800@www.diocesidiroma.it
SUMMARY:Nella basilica di San Giovanni in Laterano presiede la Messa con i ragazzi ed i giovani che hanno partecipato agli oratori estivi parrocchiali
DESCRIPTION:Nella basilica di San Giovanni in Laterano presiede la Messa con i ragazzi ed i giovani che hanno partecipato agli oratori estivi parrocchiali \n
URL:https://www.diocesidiroma.it/event/nella-basilica-di-san-giovanni-in-laterano-presiede-la-messa-con-i-ragazzi-ed-i-giovani-che-hanno-partecipato-agli-oratori-estivi-parrocchiali/
CATEGORIES:NON USARE --- Agenda del Vicario
END:VEVENT
END:VCALENDAR