BEGIN:VCALENDAR
VERSION:2.0
PRODID:-//DIOCESI DI ROMA - ECPv4.6.14.1//NONSGML v1.0//EN
CALSCALE:GREGORIAN
METHOD:PUBLISH
X-WR-CALNAME:DIOCESI DI ROMA
X-ORIGINAL-URL:https://www.diocesidiroma.it
X-WR-CALDESC:Eventi per DIOCESI DI ROMA
BEGIN:VEVENT
DTSTART;TZID=Europe/Rome:20220302T083000
DTEND;TZID=Europe/Rome:20220302T083000
DTSTAMP:20260424T075043
CREATED:20220225T113054Z
LAST-MODIFIED:20220225T113054Z
UID:20471-1646209800-1646209800@www.diocesidiroma.it
SUMMARY:Nella basilica di San Giovanni in Laterano presiede la Messa con l’imposizione delle ceneri per l’inizio della Quaresima per il personale del Vicariato e la Comunità Accademica della Pontificia Università Lateranense
DESCRIPTION:Nella basilica di San Giovanni in Laterano presiede la Messa con l’imposizione delle ceneri per l’inizio della Quaresima per il personale del Vicariato e la Comunità Accademica della Pontificia Università Lateranense. \n
URL:https://www.diocesidiroma.it/event/nella-basilica-di-san-giovanni-in-laterano-presiede-la-messa-con-limposizione-delle-ceneri-per-linizio-della-quaresima-per-il-personale-del-vicariato-e-la-comunita-accademica-della-p/
CATEGORIES:NON USARE --- Agenda del Vicario
END:VEVENT
END:VCALENDAR