BEGIN:VCALENDAR
VERSION:2.0
PRODID:-//DIOCESI DI ROMA - ECPv4.6.14.1//NONSGML v1.0//EN
CALSCALE:GREGORIAN
METHOD:PUBLISH
X-WR-CALNAME:DIOCESI DI ROMA
X-ORIGINAL-URL:https://www.diocesidiroma.it
X-WR-CALDESC:Eventi per DIOCESI DI ROMA
BEGIN:VEVENT
DTSTART;TZID=Europe/Rome:20191123T170000
DTEND;TZID=Europe/Rome:20191123T170000
DTSTAMP:20260424T055318
CREATED:20191115T102438Z
LAST-MODIFIED:20191115T102438Z
UID:9280-1574528400-1574528400@www.diocesidiroma.it
SUMMARY:Nella basilica di San Giovanni in Laterano presiede la Messa in occasione dell’ordinazione dei diaconi permanenti
DESCRIPTION:Nella basilica di San Giovanni in Laterano presiede la Messa in occasione dell’ordinazione dei diaconi permanenti. \n
URL:https://www.diocesidiroma.it/event/nella-basilica-di-san-giovanni-in-laterano-presiede-la-messa-in-occasione-dellordinazione-dei-diaconi-permanenti-2/
CATEGORIES:NON USARE --- Agenda del Vicario
END:VEVENT
END:VCALENDAR