BEGIN:VCALENDAR
VERSION:2.0
PRODID:-//DIOCESI DI ROMA - ECPv4.6.14.1//NONSGML v1.0//EN
CALSCALE:GREGORIAN
METHOD:PUBLISH
X-WR-CALNAME:DIOCESI DI ROMA
X-ORIGINAL-URL:https://www.diocesidiroma.it
X-WR-CALDESC:Eventi per DIOCESI DI ROMA
BEGIN:VEVENT
DTSTART;TZID=Europe/Rome:20240328T173000
DTEND;TZID=Europe/Rome:20240328T173000
DTSTAMP:20260424T100145
CREATED:20240322T080650Z
LAST-MODIFIED:20240322T080650Z
UID:29266-1711647000-1711647000@www.diocesidiroma.it
SUMMARY:Nella basilica di San Giovanni in Laterano presiede la Messa nella Cena del Signore
DESCRIPTION:Nella basilica di San Giovanni in Laterano presiede la Messa nella Cena del Signore. \n
URL:https://www.diocesidiroma.it/event/nella-basilica-di-san-giovanni-in-laterano-presiede-la-messa-nella-cena-del-signore-4/
CATEGORIES:NON USARE --- Agenda del Vicario
END:VEVENT
END:VCALENDAR