BEGIN:VCALENDAR
VERSION:2.0
PRODID:-//DIOCESI DI ROMA - ECPv4.6.14.1//NONSGML v1.0//EN
CALSCALE:GREGORIAN
METHOD:PUBLISH
X-WR-CALNAME:DIOCESI DI ROMA
X-ORIGINAL-URL:https://www.diocesidiroma.it
X-WR-CALDESC:Eventi per DIOCESI DI ROMA
BEGIN:VEVENT
DTSTART;TZID=Europe/Rome:20220319T170000
DTEND;TZID=Europe/Rome:20220319T170000
DTSTAMP:20260421T045208
CREATED:20220311T185630Z
LAST-MODIFIED:20220311T185630Z
UID:20702-1647709200-1647709200@www.diocesidiroma.it
SUMMARY:Nella basilica di San Giovanni in Laterano presiede la Messa organizzata dal Charis in occasione del Giubileo d’Oro del Rinnovamento Carismatico Cattolico in Italia
DESCRIPTION:Nella basilica di San Giovanni in Laterano presiede la Messa organizzata dal Charis in occasione del Giubileo d’Oro del Rinnovamento Carismatico Cattolico in Italia \n
URL:https://www.diocesidiroma.it/event/nella-basilica-di-san-giovanni-in-laterano-presiede-la-messa-organizzata-dal-charis-in-occasione-del-giubileo-doro-del-rinnovamento-carismatico-cattolico-in-italia/
CATEGORIES:NON USARE --- Agenda del Vicario
END:VEVENT
END:VCALENDAR