BEGIN:VCALENDAR
VERSION:2.0
PRODID:-//DIOCESI DI ROMA - ECPv4.6.14.1//NONSGML v1.0//EN
CALSCALE:GREGORIAN
METHOD:PUBLISH
X-WR-CALNAME:DIOCESI DI ROMA
X-ORIGINAL-URL:https://www.diocesidiroma.it
X-WR-CALDESC:Eventi per DIOCESI DI ROMA
BEGIN:VEVENT
DTSTART;TZID=Europe/Rome:20201224T190000
DTEND;TZID=Europe/Rome:20201224T190000
DTSTAMP:20260424T052443
CREATED:20201218T122903Z
LAST-MODIFIED:20201218T123009Z
UID:12875-1608836400-1608836400@www.diocesidiroma.it
SUMMARY:Nella basilica di San Giovanni in Laterano presiede la Santa Messa della Notte del Natale del Signore
DESCRIPTION:Nella basilica di San Giovanni in Laterano presiede la Santa Messa della Notte del Natale del Signore. \n
URL:https://www.diocesidiroma.it/event/nella-basilica-di-san-giovanni-in-laterano-presiede-la-santa-messa-della-notte-del-natale-del-signore-2/
CATEGORIES:NON USARE --- Agenda del Vicario
END:VEVENT
END:VCALENDAR