BEGIN:VCALENDAR
VERSION:2.0
PRODID:-//DIOCESI DI ROMA - ECPv4.6.14.1//NONSGML v1.0//EN
CALSCALE:GREGORIAN
METHOD:PUBLISH
X-WR-CALNAME:DIOCESI DI ROMA
X-ORIGINAL-URL:https://www.diocesidiroma.it
X-WR-CALDESC:Eventi per DIOCESI DI ROMA
BEGIN:VEVENT
DTSTART;TZID=Europe/Rome:20191224T233000
DTEND;TZID=Europe/Rome:20191224T233000
DTSTAMP:20260422T130949
CREATED:20191220T091452Z
LAST-MODIFIED:20191220T091452Z
UID:9618-1577230200-1577230200@www.diocesidiroma.it
SUMMARY:Nella basilica di San Giovanni in Laterano presiede la Santa Messa della Notte del Natale del Signore
DESCRIPTION:Nella basilica di San Giovanni in Laterano presiede la Santa Messa della Notte del Natale del Signore. \n
URL:https://www.diocesidiroma.it/event/nella-basilica-di-san-giovanni-in-laterano-presiede-la-santa-messa-della-notte-del-natale-del-signore/
CATEGORIES:NON USARE --- Agenda del Vicario
END:VEVENT
END:VCALENDAR