BEGIN:VCALENDAR
VERSION:2.0
PRODID:-//DIOCESI DI ROMA - ECPv4.6.14.1//NONSGML v1.0//EN
CALSCALE:GREGORIAN
METHOD:PUBLISH
X-WR-CALNAME:DIOCESI DI ROMA
X-ORIGINAL-URL:https://www.diocesidiroma.it
X-WR-CALDESC:Eventi per DIOCESI DI ROMA
BEGIN:VEVENT
DTSTART;TZID=Europe/Rome:20210101T103000
DTEND;TZID=Europe/Rome:20210101T103000
DTSTAMP:20260424T095011
CREATED:20201223T093708Z
LAST-MODIFIED:20201223T093719Z
UID:12913-1609497000-1609497000@www.diocesidiroma.it
SUMMARY:Nella basilica di San Giovanni in Laterano presiede la Santa Messa nella solennità di Maria Santissima Madre di Dio
DESCRIPTION:Nella basilica di San Giovanni in Laterano presiede la Santa Messa nella solennità di Maria Santissima Madre di Dio.  \n
URL:https://www.diocesidiroma.it/event/nella-basilica-di-san-giovanni-in-laterano-presiede-la-santa-messa-nella-solennita-di-maria-santissima-madre-di-dio/
CATEGORIES:NON USARE --- Agenda del Vicario
END:VEVENT
END:VCALENDAR