BEGIN:VCALENDAR
VERSION:2.0
PRODID:-//DIOCESI DI ROMA - ECPv4.6.14.1//NONSGML v1.0//EN
CALSCALE:GREGORIAN
METHOD:PUBLISH
X-WR-CALNAME:DIOCESI DI ROMA
X-ORIGINAL-URL:https://www.diocesidiroma.it
X-WR-CALDESC:Eventi per DIOCESI DI ROMA
BEGIN:VEVENT
DTSTART;TZID=Europe/Rome:20230428T203000
DTEND;TZID=Europe/Rome:20230428T203000
DTSTAMP:20260421T125901
CREATED:20230421T102103Z
LAST-MODIFIED:20230421T102103Z
UID:26075-1682713800-1682713800@www.diocesidiroma.it
SUMMARY:Nella basilica di San Giovanni in Laterano presiede la veglia di preghiera per le vocazioni
DESCRIPTION:Nella basilica di San Giovanni in Laterano presiede la veglia di preghiera per le vocazioni \n
URL:https://www.diocesidiroma.it/event/nella-basilica-di-san-giovanni-in-laterano-presiede-la-veglia-di-preghiera-per-le-vocazioni-2/
CATEGORIES:NON USARE --- Agenda del Vicario
END:VEVENT
END:VCALENDAR