BEGIN:VCALENDAR
VERSION:2.0
PRODID:-//DIOCESI DI ROMA - ECPv4.6.14.1//NONSGML v1.0//EN
CALSCALE:GREGORIAN
METHOD:PUBLISH
X-WR-CALNAME:DIOCESI DI ROMA
X-ORIGINAL-URL:https://www.diocesidiroma.it
X-WR-CALDESC:Eventi per DIOCESI DI ROMA
BEGIN:VEVENT
DTSTART;TZID=Europe/Rome:20231126T173000
DTEND;TZID=Europe/Rome:20231126T173000
DTSTAMP:20260422T062040
CREATED:20231117T120837Z
LAST-MODIFIED:20231117T120837Z
UID:27972-1701019800-1701019800@www.diocesidiroma.it
SUMMARY:Nella basilica di San Giovanni in Laterano presiede le Ordinazioni dei Diaconi Permanenti
DESCRIPTION:Nella basilica di San Giovanni in Laterano presiede le Ordinazioni dei Diaconi Permanenti.   \n
URL:https://www.diocesidiroma.it/event/nella-basilica-di-san-giovanni-in-laterano-presiede-le-ordinazioni-dei-diaconi-permanenti-2/
CATEGORIES:NON USARE --- Agenda del Vicario
END:VEVENT
END:VCALENDAR