BEGIN:VCALENDAR
VERSION:2.0
PRODID:-//DIOCESI DI ROMA - ECPv4.6.14.1//NONSGML v1.0//EN
CALSCALE:GREGORIAN
METHOD:PUBLISH
X-WR-CALNAME:DIOCESI DI ROMA
X-ORIGINAL-URL:https://www.diocesidiroma.it
X-WR-CALDESC:Eventi per DIOCESI DI ROMA
BEGIN:VEVENT
DTSTART;TZID=Europe/Rome:20201013T100000
DTEND;TZID=Europe/Rome:20201013T100000
DTSTAMP:20260421T043439
CREATED:20201009T083019Z
LAST-MODIFIED:20201009T083019Z
UID:12061-1602583200-1602583200@www.diocesidiroma.it
SUMMARY:Nella basilica di San Giovanni in Laterano presiede l’incontro di presentazione della nuova edizione del Messale Romano
DESCRIPTION:Nella basilica di San Giovanni in Laterano presiede l’incontro di presentazione della nuova edizione del Messale Romano. \n
URL:https://www.diocesidiroma.it/event/nella-basilica-di-san-giovanni-in-laterano-presiede-lincontro-di-presentazione-della-nuova-edizione-del-messale-romano/
CATEGORIES:NON USARE --- Agenda del Vicario
END:VEVENT
END:VCALENDAR