BEGIN:VCALENDAR
VERSION:2.0
PRODID:-//DIOCESI DI ROMA - ECPv4.6.14.1//NONSGML v1.0//EN
CALSCALE:GREGORIAN
METHOD:PUBLISH
X-WR-CALNAME:DIOCESI DI ROMA
X-ORIGINAL-URL:https://www.diocesidiroma.it
X-WR-CALDESC:Eventi per DIOCESI DI ROMA
BEGIN:VEVENT
DTSTART;TZID=Europe/Rome:20230615T203000
DTEND;TZID=Europe/Rome:20230615T203000
DTSTAMP:20260423T220758
CREATED:20230612T072744Z
LAST-MODIFIED:20230612T072744Z
UID:26593-1686861000-1686861000@www.diocesidiroma.it
SUMMARY:Nella Basilica di San Paolo fuori le Mura celebra la Messa in occasione dell’incontro mensile dei membri del Movimento di Comunione e Liberazione
DESCRIPTION:Nella Basilica di San Paolo fuori le Mura celebra la Messa in occasione dell’incontro mensile dei membri del Movimento di Comunione e Liberazione.  \n
URL:https://www.diocesidiroma.it/event/nella-basilica-di-san-paolo-fuori-le-mura-celebra-la-messa-in-occasione-dellincontro-mensile-dei-membri-del-movimento-di-comunione-e-liberazione/
CATEGORIES:NON USARE --- Agenda del Vicario
END:VEVENT
END:VCALENDAR