BEGIN:VCALENDAR
VERSION:2.0
PRODID:-//DIOCESI DI ROMA - ECPv4.6.14.1//NONSGML v1.0//EN
CALSCALE:GREGORIAN
METHOD:PUBLISH
X-WR-CALNAME:DIOCESI DI ROMA
X-ORIGINAL-URL:https://www.diocesidiroma.it
X-WR-CALDESC:Eventi per DIOCESI DI ROMA
BEGIN:VEVENT
DTSTART;TZID=Europe/Rome:20210314T100000
DTEND;TZID=Europe/Rome:20210314T100000
DTSTAMP:20260420T234012
CREATED:20210305T094447Z
LAST-MODIFIED:20210305T094447Z
UID:14087-1615716000-1615716000@www.diocesidiroma.it
SUMMARY:Nella basilica di San Pietro concelebra la Messa presieduta dal Santo Padre in occasione del 500° anniversario della presenza cristiana nelle Filippine
DESCRIPTION:Nella basilica di San Pietro concelebra la Messa presieduta dal Santo Padre in occasione del 500° anniversario della presenza cristiana nelle Filippine. \n
URL:https://www.diocesidiroma.it/event/nella-basilica-di-san-pietro-concelebra-la-messa-presieduta-dal-santo-padre-in-occasione-del-500-anniversario-della-presenza-cristiana-nelle-filippine/
CATEGORIES:NON USARE --- Agenda del Vicario
END:VEVENT
END:VCALENDAR