BEGIN:VCALENDAR
VERSION:2.0
PRODID:-//DIOCESI DI ROMA - ECPv4.6.14.1//NONSGML v1.0//EN
CALSCALE:GREGORIAN
METHOD:PUBLISH
X-WR-CALNAME:DIOCESI DI ROMA
X-ORIGINAL-URL:https://www.diocesidiroma.it
X-WR-CALDESC:Eventi per DIOCESI DI ROMA
BEGIN:VEVENT
DTSTART;TZID=Europe/Rome:20191004T170000
DTEND;TZID=Europe/Rome:20191004T170000
DTSTAMP:20260423T220915
CREATED:20190927T080610Z
LAST-MODIFIED:20190927T080621Z
UID:8854-1570208400-1570208400@www.diocesidiroma.it
SUMMARY:Nella basilica di San Pietro concelebra nella Messa delle ordinazioni episcopali presiedute dal Santo Padre
DESCRIPTION:Nella basilica di San Pietro concelebra nella Messa delle ordinazioni episcopali presiedute dal Santo Padre. \n
URL:https://www.diocesidiroma.it/event/nella-basilica-di-san-pietro-concelebra-nella-messa-delle-ordinazioni-episcopali-presiedute-dal-santo-padre/
CATEGORIES:NON USARE --- Agenda del Vicario
END:VEVENT
END:VCALENDAR