BEGIN:VCALENDAR
VERSION:2.0
PRODID:-//DIOCESI DI ROMA - ECPv4.6.14.1//NONSGML v1.0//EN
CALSCALE:GREGORIAN
METHOD:PUBLISH
X-WR-CALNAME:DIOCESI DI ROMA
X-ORIGINAL-URL:https://www.diocesidiroma.it
X-WR-CALDESC:Eventi per DIOCESI DI ROMA
BEGIN:VEVENT
DTSTART;TZID=Europe/Rome:20181122T210000
DTEND;TZID=Europe/Rome:20181122T210000
DTSTAMP:20260422T001631
CREATED:20181115T091250Z
LAST-MODIFIED:20181115T091250Z
UID:5537-1542920400-1542920400@www.diocesidiroma.it
SUMMARY:Nella basilica di Santa Croce in Gerusalemme presiede la veglia di preghiera in occasione della giornata della santificazione universale
DESCRIPTION:Nella basilica di Santa Croce in Gerusalemme presiede la veglia di preghiera in occasione della giornata della santificazione universale. \n
URL:https://www.diocesidiroma.it/event/nella-basilica-di-santa-croce-in-gerusalemme-presiede-la-veglia-di-preghiera-in-occasione-della-giornata-della-santificazione-universale/
CATEGORIES:NON USARE --- Agenda del Vicario
END:VEVENT
END:VCALENDAR