BEGIN:VCALENDAR
VERSION:2.0
PRODID:-//DIOCESI DI ROMA - ECPv4.6.14.1//NONSGML v1.0//EN
CALSCALE:GREGORIAN
METHOD:PUBLISH
X-WR-CALNAME:DIOCESI DI ROMA
X-ORIGINAL-URL:https://www.diocesidiroma.it
X-WR-CALDESC:Eventi per DIOCESI DI ROMA
BEGIN:VEVENT
DTSTART;TZID=Europe/Rome:20190908T150000
DTEND;TZID=Europe/Rome:20190908T150000
DTSTAMP:20260424T032101
CREATED:20190903T100200Z
LAST-MODIFIED:20190903T100200Z
UID:8197-1567954800-1567954800@www.diocesidiroma.it
SUMMARY:Nella basilica di Santa Maria Maggiore assiste e tiene l’omelia nella Messa in occasione dei 25 anni della presenza della Chiesa Siro Malabarese a Roma
DESCRIPTION:Nella basilica di Santa Maria Maggiore assiste e tiene l’omelia nella Messa in occasione dei 25 anni della presenza della Chiesa Siro Malabarese a Roma. \n
URL:https://www.diocesidiroma.it/event/nella-basilica-di-santa-maria-maggiore-assiste-e-tiene-lomelia-nella-messa-in-occasione-dei-25-anni-della-presenza-della-chiesa-siro-malabarese-a-roma/
CATEGORIES:NON USARE --- Agenda del Vicario
END:VEVENT
END:VCALENDAR