BEGIN:VCALENDAR
VERSION:2.0
PRODID:-//DIOCESI DI ROMA - ECPv4.6.14.1//NONSGML v1.0//EN
CALSCALE:GREGORIAN
METHOD:PUBLISH
X-WR-CALNAME:DIOCESI DI ROMA
X-ORIGINAL-URL:https://www.diocesidiroma.it
X-WR-CALDESC:Eventi per DIOCESI DI ROMA
BEGIN:VEVENT
DTSTART;TZID=Europe/Rome:20190309T180000
DTEND;TZID=Europe/Rome:20190309T180000
DTSTAMP:20260422T220133
CREATED:20190301T073532Z
LAST-MODIFIED:20190301T073532Z
UID:6867-1552154400-1552154400@www.diocesidiroma.it
SUMMARY:Nella basilica di Santa Maria Maggiore celebra la Messa in occasione del 30° anniversario della scomparsa di monsignor Davide Bianchi
DESCRIPTION:Nella basilica di Santa Maria Maggiore celebra la Messa in occasione del 30° anniversario della scomparsa di monsignor Davide Bianchi\, delegato dell’Opera romana pellegrinaggi fino al 1989. \n
URL:https://www.diocesidiroma.it/event/nella-basilica-di-santa-maria-maggiore-celebra-la-messa-in-occasione-del-30-anniversario-della-scomparsa-di-monsignor-davide-bianchi/
CATEGORIES:NON USARE --- Agenda del Vicario
END:VEVENT
END:VCALENDAR