BEGIN:VCALENDAR
VERSION:2.0
PRODID:-//DIOCESI DI ROMA - ECPv4.6.14.1//NONSGML v1.0//EN
CALSCALE:GREGORIAN
METHOD:PUBLISH
X-WR-CALNAME:DIOCESI DI ROMA
X-ORIGINAL-URL:https://www.diocesidiroma.it
X-WR-CALDESC:Eventi per DIOCESI DI ROMA
BEGIN:VEVENT
DTSTART;TZID=Europe/Rome:20190218T183000
DTEND;TZID=Europe/Rome:20190218T183000
DTSTAMP:20260421T012313
CREATED:20190215T105931Z
LAST-MODIFIED:20190215T105931Z
UID:6570-1550514600-1550514600@www.diocesidiroma.it
SUMMARY:Nella basilica di Santa Maria sopra Minerva celebra la Messa nella memoria liturgica del Beato Angelico\, patrono degli artisti
DESCRIPTION:Nella basilica di Santa Maria sopra Minerva celebra la Messa nella memoria liturgica del Beato Angelico\, patrono degli artisti. \n
URL:https://www.diocesidiroma.it/event/nella-basilica-di-santa-maria-sopra-minerva-celebra-la-messa-nella-memoria-liturgica-del-beato-angelico-patrono-degli-artisti/
CATEGORIES:NON USARE --- Agenda del Vicario
END:VEVENT
END:VCALENDAR