BEGIN:VCALENDAR
VERSION:2.0
PRODID:-//DIOCESI DI ROMA - ECPv4.6.14.1//NONSGML v1.0//EN
CALSCALE:GREGORIAN
METHOD:PUBLISH
X-WR-CALNAME:DIOCESI DI ROMA
X-ORIGINAL-URL:https://www.diocesidiroma.it
X-WR-CALDESC:Eventi per DIOCESI DI ROMA
BEGIN:VEVENT
DTSTART;TZID=Europe/Rome:20181003T180000
DTEND;TZID=Europe/Rome:20181003T180000
DTSTAMP:20260424T161023
CREATED:20180928T084526Z
LAST-MODIFIED:20180928T084526Z
UID:4779-1538589600-1538589600@www.diocesidiroma.it
SUMMARY:Nella basilica lateranense celebra la Messa in occasione della festa di San Francesco
DESCRIPTION:Nella basilica lateranense celebra la Messa in occasione della festa di San Francesco. \n
URL:https://www.diocesidiroma.it/event/nella-basilica-lateranense-celebra-la-messa-in-occasione-della-festa-di-san-francesco/
CATEGORIES:NON USARE --- Agenda del Vicario
END:VEVENT
END:VCALENDAR