BEGIN:VCALENDAR
VERSION:2.0
PRODID:-//DIOCESI DI ROMA - ECPv4.6.14.1//NONSGML v1.0//EN
CALSCALE:GREGORIAN
METHOD:PUBLISH
X-WR-CALNAME:DIOCESI DI ROMA
X-ORIGINAL-URL:https://www.diocesidiroma.it
X-WR-CALDESC:Eventi per DIOCESI DI ROMA
BEGIN:VEVENT
DTSTART;TZID=Europe/Rome:20231109T173000
DTEND;TZID=Europe/Rome:20231109T173000
DTSTAMP:20260421T012740
CREATED:20231103T100133Z
LAST-MODIFIED:20231103T100133Z
UID:27783-1699551000-1699551000@www.diocesidiroma.it
SUMMARY:Nella Basilica Lateranense celebra la Messa in occasione della solennità della Dedicazione e nell’avvio delle celebrazioni del diciassettesimo centenario dell’anniversario della Basilica. Concelebrano i sacerdoti e i religiosi che vivono in questo anno il 25°\, il 50° ed il 60° di ordinazione sacerdotale
DESCRIPTION:Nella Basilica Lateranense celebra la Messa in occasione della solennità della Dedicazione e nell’avvio delle celebrazioni del diciassettesimo centenario dell’anniversario della Basilica. Concelebrano i sacerdoti e i religiosi che vivono in questo anno il 25°\, il 50° ed il 60° di ordinazione sacerdotale. \n
URL:https://www.diocesidiroma.it/event/nella-basilica-lateranense-celebra-la-messa-in-occasione-della-solennita-della-dedicazione-e-nellavvio-delle-celebrazioni-del-diciassettesimo-centenario-dellanniversario-della-basili/
CATEGORIES:NON USARE --- Agenda del Vicario
END:VEVENT
END:VCALENDAR