BEGIN:VCALENDAR
VERSION:2.0
PRODID:-//DIOCESI DI ROMA - ECPv4.6.14.1//NONSGML v1.0//EN
CALSCALE:GREGORIAN
METHOD:PUBLISH
X-WR-CALNAME:DIOCESI DI ROMA
X-ORIGINAL-URL:https://www.diocesidiroma.it
X-WR-CALDESC:Eventi per DIOCESI DI ROMA
BEGIN:VEVENT
DTSTART;TZID=Europe/Rome:20221109T173000
DTEND;TZID=Europe/Rome:20221109T173000
DTSTAMP:20260425T233102
CREATED:20221104T105537Z
LAST-MODIFIED:20221104T105537Z
UID:23837-1668015000-1668015000@www.diocesidiroma.it
SUMMARY:Nella Basilica Lateranense celebra la Messa in occasione della solennità della Dedicazione insieme ai sacerdoti che festeggiano i loro giubilei sacerdotali ed agli operatori pastorali della Caritas diocesana
DESCRIPTION:Nella Basilica Lateranense celebra la Messa in occasione della solennità della Dedicazione insieme ai sacerdoti che festeggiano i loro giubilei sacerdotali ed agli operatori pastorali della Caritas diocesana. \n
URL:https://www.diocesidiroma.it/event/nella-basilica-lateranense-celebra-la-messa-in-occasione-della-solennita-della-dedicazione-insieme-ai-sacerdoti-che-festeggiano-i-loro-giubilei-sacerdotali-ed-agli-operatori-pastorali-della-caritas-di/
CATEGORIES:NON USARE --- Agenda del Vicario
END:VEVENT
END:VCALENDAR