BEGIN:VCALENDAR
VERSION:2.0
PRODID:-//DIOCESI DI ROMA - ECPv4.6.14.1//NONSGML v1.0//EN
CALSCALE:GREGORIAN
METHOD:PUBLISH
X-WR-CALNAME:DIOCESI DI ROMA
X-ORIGINAL-URL:https://www.diocesidiroma.it
X-WR-CALDESC:Eventi per DIOCESI DI ROMA
BEGIN:VEVENT
DTSTART;TZID=Europe/Rome:20190311T190000
DTEND;TZID=Europe/Rome:20190311T190000
DTSTAMP:20260423T181440
CREATED:20190308T084542Z
LAST-MODIFIED:20190308T084542Z
UID:6950-1552330800-1552330800@www.diocesidiroma.it
SUMMARY:Nella basilica lateranense presiede gli incontri di catechesi sull’esortazione apostolica “Gaudete et Exsultate”.
DESCRIPTION:Nella basilica lateranense presiede gli incontri di catechesi sull’esortazione apostolica “Gaudete et Exsultate”.  \n
URL:https://www.diocesidiroma.it/event/nella-basilica-lateranense-presiede-gli-incontri-di-catechesi-sullesortazione-apostolica-gaudete-et-exsultate-3/
CATEGORIES:NON USARE --- Agenda del Vicario
END:VEVENT
END:VCALENDAR