BEGIN:VCALENDAR
VERSION:2.0
PRODID:-//DIOCESI DI ROMA - ECPv4.6.14.1//NONSGML v1.0//EN
CALSCALE:GREGORIAN
METHOD:PUBLISH
X-WR-CALNAME:DIOCESI DI ROMA
X-ORIGINAL-URL:https://www.diocesidiroma.it
X-WR-CALDESC:Eventi per DIOCESI DI ROMA
BEGIN:VEVENT
DTSTART;TZID=Europe/Rome:20260225T190000
DTEND;TZID=Europe/Rome:20260225T190000
DTSTAMP:20260421T005030
CREATED:20260219T083326Z
LAST-MODIFIED:20260219T083326Z
UID:40049-1772046000-1772046000@www.diocesidiroma.it
SUMMARY:Nella basilica lateranense\, quaresimali animati dal professor Nembrini sulla figura di san Francesco
DESCRIPTION:Nella basilica lateranense\, quaresimali animati dal professor Nembrini sulla figura di san Francesco \n
URL:https://www.diocesidiroma.it/event/nella-basilica-lateranense-quaresimali-animati-dal-professor-nembrini-sulla-figura-di-san-francesco/
CATEGORIES:Vicario Generale
END:VEVENT
END:VCALENDAR