BEGIN:VCALENDAR
VERSION:2.0
PRODID:-//DIOCESI DI ROMA - ECPv4.6.14.1//NONSGML v1.0//EN
CALSCALE:GREGORIAN
METHOD:PUBLISH
X-WR-CALNAME:DIOCESI DI ROMA
X-ORIGINAL-URL:https://www.diocesidiroma.it
X-WR-CALDESC:Eventi per DIOCESI DI ROMA
BEGIN:VEVENT
DTSTART;TZID=Europe/Rome:20240328T093000
DTEND;TZID=Europe/Rome:20240328T093000
DTSTAMP:20260424T080252
CREATED:20240322T080608Z
LAST-MODIFIED:20240322T080608Z
UID:29264-1711618200-1711618200@www.diocesidiroma.it
SUMMARY:Nella basilica vaticana concelebra la Messa Crismale
DESCRIPTION:Nella basilica vaticana concelebra la Messa Crismale. \n
URL:https://www.diocesidiroma.it/event/nella-basilica-vaticana-concelebra-la-messa-crismale-2/
CATEGORIES:NON USARE --- Agenda del Vicario
END:VEVENT
END:VCALENDAR