BEGIN:VCALENDAR
VERSION:2.0
PRODID:-//DIOCESI DI ROMA - ECPv4.6.14.1//NONSGML v1.0//EN
CALSCALE:GREGORIAN
METHOD:PUBLISH
X-WR-CALNAME:DIOCESI DI ROMA
X-ORIGINAL-URL:https://www.diocesidiroma.it
X-WR-CALDESC:Eventi per DIOCESI DI ROMA
BEGIN:VEVENT
DTSTART;TZID=Europe/Rome:20190418T093000
DTEND;TZID=Europe/Rome:20190418T093000
DTSTAMP:20260424T222346
CREATED:20190412T073854Z
LAST-MODIFIED:20190412T073854Z
UID:7354-1555579800-1555579800@www.diocesidiroma.it
SUMMARY:Nella basilica vaticana concelebra la Messa Crismale presieduta dal Santo Padre
DESCRIPTION:Nella basilica vaticana concelebra la Messa Crismale presieduta dal Santo Padre. \n
URL:https://www.diocesidiroma.it/event/nella-basilica-vaticana-concelebra-la-messa-crismale-presieduta-dal-santo-padre/
CATEGORIES:NON USARE --- Agenda del Vicario
END:VEVENT
END:VCALENDAR