BEGIN:VCALENDAR
VERSION:2.0
PRODID:-//DIOCESI DI ROMA - ECPv4.6.14.1//NONSGML v1.0//EN
CALSCALE:GREGORIAN
METHOD:PUBLISH
X-WR-CALNAME:DIOCESI DI ROMA
X-ORIGINAL-URL:https://www.diocesidiroma.it
X-WR-CALDESC:Eventi per DIOCESI DI ROMA
BEGIN:VEVENT
DTSTART;TZID=Europe/Rome:20201231T170000
DTEND;TZID=Europe/Rome:20201231T170000
DTSTAMP:20260424T055458
CREATED:20201223T093546Z
LAST-MODIFIED:20201223T093604Z
UID:12911-1609434000-1609434000@www.diocesidiroma.it
SUMMARY:Nella basilica vaticana partecipa ai primi Vespri della solennità di Maria Santissima Madre di Dio e al canto del “Te Deum”
DESCRIPTION:Nella basilica vaticana partecipa ai primi Vespri della solennità di Maria Santissima Madre di Dio e al canto del “Te Deum”. \n
URL:https://www.diocesidiroma.it/event/nella-basilica-vaticana-partecipa-ai-primi-vespri-della-solennita-di-maria-santissima-madre-di-dio-e-al-canto-del-te-deum-3/
CATEGORIES:NON USARE --- Agenda del Vicario
END:VEVENT
END:VCALENDAR