BEGIN:VCALENDAR
VERSION:2.0
PRODID:-//DIOCESI DI ROMA - ECPv4.6.14.1//NONSGML v1.0//EN
CALSCALE:GREGORIAN
METHOD:PUBLISH
X-WR-CALNAME:DIOCESI DI ROMA
X-ORIGINAL-URL:https://www.diocesidiroma.it
X-WR-CALDESC:Eventi per DIOCESI DI ROMA
BEGIN:VEVENT
DTSTART;TZID=Europe/Rome:20230313T080000
DTEND;TZID=Europe/Rome:20230313T090000
DTSTAMP:20260421T133956
CREATED:20230310T124617Z
LAST-MODIFIED:20230310T124703Z
UID:25641-1678694400-1678698000@www.diocesidiroma.it
SUMMARY:Nella Cappella di Santa Marta in Vaticano concelebra la Messa presieduta da Papa Francesco in occasione del 10° anniversario di pontificato
DESCRIPTION:Nella Cappella di Santa Marta in Vaticano concelebra la Messa presieduta da Papa Francesco in occasione del 10° anniversario di pontificato. \n
URL:https://www.diocesidiroma.it/event/nella-cappella-di-santa-marta-in-vaticano-concelebra-la-messa-presieduta-da-papa-francesco-in-occasione-del-10-anniversario-di-pontificato/
CATEGORIES:NON USARE --- Agenda del Vicario
END:VEVENT
END:VCALENDAR