BEGIN:VCALENDAR
VERSION:2.0
PRODID:-//DIOCESI DI ROMA - ECPv4.6.14.1//NONSGML v1.0//EN
CALSCALE:GREGORIAN
METHOD:PUBLISH
X-WR-CALNAME:DIOCESI DI ROMA
X-ORIGINAL-URL:https://www.diocesidiroma.it
X-WR-CALDESC:Eventi per DIOCESI DI ROMA
BEGIN:VEVENT
DTSTART;TZID=Europe/Rome:20220319T093000
DTEND;TZID=Europe/Rome:20220319T093000
DTSTAMP:20260421T062718
CREATED:20220311T185545Z
LAST-MODIFIED:20220311T185545Z
UID:20700-1647682200-1647682200@www.diocesidiroma.it
SUMMARY:Nella Casa del Clero San Giuseppe incontra i parroci emeriti del clero per il cammino sinodale e la celebrazione della Messa
DESCRIPTION:Nella Casa del Clero San Giuseppe incontra i parroci emeriti del clero per il cammino sinodale e la celebrazione della Messa \n
URL:https://www.diocesidiroma.it/event/nella-casa-del-clero-san-giuseppe-incontra-i-parroci-emeriti-del-clero-per-il-cammino-sinodale-e-la-celebrazione-della-messa/
CATEGORIES:NON USARE --- Agenda del Vicario
END:VEVENT
END:VCALENDAR