BEGIN:VCALENDAR
VERSION:2.0
PRODID:-//DIOCESI DI ROMA - ECPv4.6.14.1//NONSGML v1.0//EN
CALSCALE:GREGORIAN
METHOD:PUBLISH
X-WR-CALNAME:DIOCESI DI ROMA
X-ORIGINAL-URL:https://www.diocesidiroma.it
X-WR-CALDESC:Eventi per DIOCESI DI ROMA
BEGIN:VEVENT
DTSTART;TZID=Europe/Rome:20211030T170000
DTEND;TZID=Europe/Rome:20211030T170000
DTSTAMP:20260424T040514
CREATED:20211022T110011Z
LAST-MODIFIED:20211022T110011Z
UID:18641-1635613200-1635613200@www.diocesidiroma.it
SUMMARY:Nella casa di Esercizi Spirituali dei Padri Passionisti al Celio incontra coloro che saranno ordinati diaconi permanenti
DESCRIPTION:Nella casa di Esercizi Spirituali dei Padri Passionisti al Celio incontra coloro che saranno ordinati diaconi permanenti. \n
URL:https://www.diocesidiroma.it/event/nella-casa-di-esercizi-spirituali-dei-padri-passionisti-al-celio-incontra-coloro-che-saranno-ordinati-diaconi-permanenti/
CATEGORIES:NON USARE --- Agenda del Vicario
END:VEVENT
END:VCALENDAR