BEGIN:VCALENDAR
VERSION:2.0
PRODID:-//DIOCESI DI ROMA - ECPv4.6.14.1//NONSGML v1.0//EN
CALSCALE:GREGORIAN
METHOD:PUBLISH
X-WR-CALNAME:DIOCESI DI ROMA
X-ORIGINAL-URL:https://www.diocesidiroma.it
X-WR-CALDESC:Eventi per DIOCESI DI ROMA
BEGIN:VEVENT
DTSTART;TZID=Europe/Rome:20191116T170000
DTEND;TZID=Europe/Rome:20191116T170000
DTSTAMP:20260421T024636
CREATED:20191108T082519Z
LAST-MODIFIED:20191108T082612Z
UID:9214-1573923600-1573923600@www.diocesidiroma.it
SUMMARY:Nella casa di esercizi spirituali dei Padri Passionisti al Celio incontra gli ordinandi diaconi permanenti
DESCRIPTION:Nella casa di esercizi spirituali dei Padri Passionisti al Celio incontra gli ordinandi diaconi permanenti. \n
URL:https://www.diocesidiroma.it/event/nella-casa-di-esercizi-spirituali-dei-padri-passionisti-al-celio-incontra-gli-ordinandi-diaconi-permanenti/
CATEGORIES:NON USARE --- Agenda del Vicario
END:VEVENT
END:VCALENDAR