BEGIN:VCALENDAR
VERSION:2.0
PRODID:-//DIOCESI DI ROMA - ECPv4.6.14.1//NONSGML v1.0//EN
CALSCALE:GREGORIAN
METHOD:PUBLISH
X-WR-CALNAME:DIOCESI DI ROMA
X-ORIGINAL-URL:https://www.diocesidiroma.it
X-WR-CALDESC:Eventi per DIOCESI DI ROMA
BEGIN:VEVENT
DTSTART;TZID=Europe/Rome:20220316T183000
DTEND;TZID=Europe/Rome:20220316T183000
DTSTAMP:20260423T201602
CREATED:20220311T185244Z
LAST-MODIFIED:20220311T185244Z
UID:20694-1647455400-1647455400@www.diocesidiroma.it
SUMMARY:Nella chiesa di Santa Maria Sopra Minerva tiene una meditazione quaresimale ai senatori e ai dipendenti del Senato della Repubblica
DESCRIPTION:Nella chiesa di Santa Maria Sopra Minerva tiene una meditazione quaresimale ai senatori e ai dipendenti del Senato della Repubblica \n
URL:https://www.diocesidiroma.it/event/nella-chiesa-di-santa-maria-sopra-minerva-tiene-una-meditazione-quaresimale-ai-senatori-e-ai-dipendenti-del-senato-della-repubblica/
CATEGORIES:NON USARE --- Agenda del Vicario
END:VEVENT
END:VCALENDAR