BEGIN:VCALENDAR
VERSION:2.0
PRODID:-//DIOCESI DI ROMA - ECPv4.6.14.1//NONSGML v1.0//EN
CALSCALE:GREGORIAN
METHOD:PUBLISH
X-WR-CALNAME:DIOCESI DI ROMA
X-ORIGINAL-URL:https://www.diocesidiroma.it
X-WR-CALDESC:Eventi per DIOCESI DI ROMA
BEGIN:VEVENT
DTSTART;TZID=Europe/Rome:20201107T180000
DTEND;TZID=Europe/Rome:20201107T180000
DTSTAMP:20260425T221654
CREATED:20201030T095148Z
LAST-MODIFIED:20201030T095202Z
UID:12258-1604772000-1604772000@www.diocesidiroma.it
SUMMARY:Nella chiesa rettoria di Santa Maria della Consolazione al Foro Romano celebra la Messa in occasione dei 550 anni dalla fondazione
DESCRIPTION:Nella chiesa rettoria di Santa Maria della Consolazione al Foro Romano celebra la Messa in occasione dei 550 anni dalla fondazione.  \n
URL:https://www.diocesidiroma.it/event/nella-chiesa-rettoria-di-santa-maria-della-consolazione-al-foro-romano-celebra-la-messa-in-occasione-dei-550-anni-dalla-fondazione/
CATEGORIES:NON USARE --- Agenda del Vicario
END:VEVENT
END:VCALENDAR