BEGIN:VCALENDAR
VERSION:2.0
PRODID:-//DIOCESI DI ROMA - ECPv4.6.14.1//NONSGML v1.0//EN
CALSCALE:GREGORIAN
METHOD:PUBLISH
X-WR-CALNAME:DIOCESI DI ROMA
X-ORIGINAL-URL:https://www.diocesidiroma.it
X-WR-CALDESC:Eventi per DIOCESI DI ROMA
BEGIN:VEVENT
DTSTART;TZID=Europe/Rome:20200218T183000
DTEND;TZID=Europe/Rome:20200218T183000
DTSTAMP:20260424T133958
CREATED:20200214T085731Z
LAST-MODIFIED:20200214T085731Z
UID:10021-1582050600-1582050600@www.diocesidiroma.it
SUMMARY:Nella chiesa rettoria di Sant’Ignazio di Loyola in Campo Marzio celebra la Messa nella memoria liturgica del Beato Angelico\, patrono degli artisti
DESCRIPTION:Nella chiesa rettoria di Sant’Ignazio di Loyola in Campo Marzio celebra la Messa nella memoria liturgica del Beato Angelico\, patrono degli artisti. \n
URL:https://www.diocesidiroma.it/event/nella-chiesa-rettoria-di-santignazio-di-loyola-in-campo-marzio-celebra-la-messa-nella-memoria-liturgica-del-beato-angelico-patrono-degli-artisti/
CATEGORIES:NON USARE --- Agenda del Vicario
END:VEVENT
END:VCALENDAR