BEGIN:VCALENDAR
VERSION:2.0
PRODID:-//DIOCESI DI ROMA - ECPv4.6.14.1//NONSGML v1.0//EN
CALSCALE:GREGORIAN
METHOD:PUBLISH
X-WR-CALNAME:DIOCESI DI ROMA
X-ORIGINAL-URL:https://www.diocesidiroma.it
X-WR-CALDESC:Eventi per DIOCESI DI ROMA
BEGIN:VEVENT
DTSTART;TZID=Europe/Rome:20191223T093000
DTEND;TZID=Europe/Rome:20191223T093000
DTSTAMP:20260422T053054
CREATED:20191220T091324Z
LAST-MODIFIED:20191220T091339Z
UID:9614-1577093400-1577093400@www.diocesidiroma.it
SUMMARY:Nella chiesa rettoria Santa Maria in Ara Coeli al Campidoglio celebra la Messa in occasione del Natale per i dipendenti del Comune di Roma e della Polizia Municipale
DESCRIPTION:Nella chiesa rettoria Santa Maria in Ara Coeli al Campidoglio celebra la Messa in occasione del Natale per i dipendenti del Comune di Roma e della Polizia Municipale.  \n
URL:https://www.diocesidiroma.it/event/nella-chiesa-rettoria-santa-maria-in-ara-coeli-al-campidoglio-celebra-la-messa-in-occasione-del-natale-per-i-dipendenti-del-comune-di-roma-e-della-polizia-municipale/
CATEGORIES:NON USARE --- Agenda del Vicario
END:VEVENT
END:VCALENDAR