BEGIN:VCALENDAR
VERSION:2.0
PRODID:-//DIOCESI DI ROMA - ECPv4.6.14.1//NONSGML v1.0//EN
CALSCALE:GREGORIAN
METHOD:PUBLISH
X-WR-CALNAME:DIOCESI DI ROMA
X-ORIGINAL-URL:https://www.diocesidiroma.it
X-WR-CALDESC:Eventi per DIOCESI DI ROMA
BEGIN:VEVENT
DTSTART;TZID=Europe/Rome:20190524T203000
DTEND;TZID=Europe/Rome:20190524T203000
DTSTAMP:20260424T094910
CREATED:20190517T072936Z
LAST-MODIFIED:20190517T072936Z
UID:7613-1558729800-1558729800@www.diocesidiroma.it
SUMMARY:Nella parrocchia dei Santi XII Apostoli celebra la Messa per il Rinnovamento nello Spirito in occasione della Giornata del Ringraziamento
DESCRIPTION:Nella parrocchia dei Santi XII Apostoli celebra la Messa per il Rinnovamento nello Spirito in occasione della Giornata del Ringraziamento.  \n
URL:https://www.diocesidiroma.it/event/nella-parrocchia-dei-santi-xii-apostoli-celebra-la-messa-per-il-rinnovamento-nello-spirito-in-occasione-della-giornata-del-ringraziamento/
CATEGORIES:NON USARE --- Agenda del Vicario
END:VEVENT
END:VCALENDAR